BEGIN:VCALENDAR
VERSION:2.0
PRODID:-//https://www.ceescyl.com///NONSGML kigkonsult.se iCalcreator 2.10.15//
METHOD:PUBLISH
BEGIN:VEVENT
UID:20260419T224339CEST-01382i9M63@https://www.ceescyl.com/
DTSTAMP:20260419T204339Z
DESCRIPTION:Asamblea General de Colegiados y Colegiadas del CEESCYL. Hora: 
 10:00 horas 1ª convocatoria\, 10:30 horas 2ª convocatoria. Sede del Colegi
 o. Valladolid.Presentación del documental 'POR LA PUERTA GRANDE'. Hora: 12
 :30 a 14:00 horas. Sede del Colegio. Valladolid https://www.ceescyl.com/ag
 enda-de-actividades-del-ceescyl/evento/529-asamblea-general-ordinaria-de-c
 olegiados-y-colegiadas-del-ceescyl.html
DTSTART:20160401T220000Z
DTEND:20160401T220000Z
LOCATION:CeesCyL ()
SUMMARY:Asamblea General Ordinaria de Colegiados y Colegiadas del CEESCYL
URL:https://www.ceescyl.com/agenda-de-actividades-del-ceescyl/evento/529-as
 amblea-general-ordinaria-de-colegiados-y-colegiadas-del-ceescyl.html
END:VEVENT
END:VCALENDAR
