BEGIN:VCALENDAR
VERSION:2.0
PRODID:-//https://www.ceescyl.com///NONSGML kigkonsult.se iCalcreator 2.10.15//
METHOD:PUBLISH
BEGIN:VEVENT
UID:20260419T152951CEST-5075v22m45@https://www.ceescyl.com/
DTSTAMP:20260419T132951Z
DESCRIPTION:Asistencia de representantes del CEESCYL al II FORO SABADELL PR
 OFESIONAL. Hora: 12:00 horas. Arroyo de la Encomienda (Valladolid.) https:
 //www.ceescyl.com/agenda-de-actividades-del-ceescyl/evento/533-asistencia-
 ii-foro-sabadell-profesional.html
DTSTART:20160309T230000Z
DTEND:20160309T230000Z
LOCATION:CeesCyL ()
SUMMARY:Asistencia II Foro Sabadell Profesional
URL:https://www.ceescyl.com/agenda-de-actividades-del-ceescyl/evento/533-as
 istencia-ii-foro-sabadell-profesional.html
END:VEVENT
END:VCALENDAR
