BEGIN:VCALENDAR
VERSION:2.0
PRODID:-//https://www.ceescyl.com///NONSGML kigkonsult.se iCalcreator 2.10.15//
METHOD:PUBLISH
BEGIN:VEVENT
UID:20260420T150527CEST-2927ncS0W8@https://www.ceescyl.com/
DTSTAMP:20260420T130527Z
DESCRIPTION:Plataforma Social de Valladolid. Debate sobre servicios sociale
 s\, pensiones y dependencia con partidos políticos. El CEESCYL participa e
 n este debate con un representante en el apartado de Renta Garantizada de 
 Ciudadanía. Hora: 30:30 h. Lugar: Centro Cívico Casa Cuna. Valladolid. htt
 ps://www.ceescyl.com/agenda-de-actividades-del-ceescyl/evento/557-debate-p
 lataforma-social.html
DTSTART:20151129T230000Z
DTEND:20151129T230000Z
LOCATION:CeesCyL ()
SUMMARY:Debate Plataforma Social.
URL:https://www.ceescyl.com/agenda-de-actividades-del-ceescyl/evento/557-de
 bate-plataforma-social.html
END:VEVENT
END:VCALENDAR
