BEGIN:VCALENDAR
VERSION:2.0
PRODID:-//https://www.ceescyl.com///NONSGML kigkonsult.se iCalcreator 2.10.15//
METHOD:PUBLISH
BEGIN:VEVENT
UID:20260423T103335CEST-2626arIncH@https://www.ceescyl.com/
DTSTAMP:20260423T083335Z
DESCRIPTION:Asistencia de representantes del CEESCYL a la reunión de presen
 tación del Instituto de Mediación de Valladolid. Hora: 17:00 horas. Cámara
  de Comercio e Industria. Valladolid https://www.ceescyl.com/agenda-de-act
 ividades-del-ceescyl/evento/596-presentacion-instituto-de-mediacion-de-val
 ladolid.html
DTSTART:20150526T220000Z
DTEND:20150526T220000Z
LOCATION:CeesCyL ()
SUMMARY:Presentación Instituto de Mediación de Valladolid
URL:https://www.ceescyl.com/agenda-de-actividades-del-ceescyl/evento/596-pr
 esentacion-instituto-de-mediacion-de-valladolid.html
END:VEVENT
END:VCALENDAR
