BEGIN:VCALENDAR
VERSION:2.0
PRODID:-//https://www.ceescyl.com///NONSGML kigkonsult.se iCalcreator 2.10.15//
METHOD:PUBLISH
BEGIN:VEVENT
UID:20260420T000929CEST-4093G0vbSf@https://www.ceescyl.com/
DTSTAMP:20260419T220929Z
DESCRIPTION:Asamblea General de Colegiados y Colegiadas del CEESCYL. Hora: 
 10:00 horas 1ª convocatoria\, 10:30 horas 2ª convocatoria. Sede del Colegi
 o. Valladolid.Acto conmemorativo X Aniversario del CEESCYL. Presentación #
 Edusohistorias. Hora: 12:30 a 13:30 horas. Sede del Colegio. Valladolid ht
 tps://www.ceescyl.com/agenda-de-actividades-del-ceescyl/evento/597-asamble
 a-general-ceescyl-2015-presentacion-edusohistorias.html
DTSTART:20150522T220000Z
DTEND:20150522T220000Z
LOCATION:CeesCyL ()
SUMMARY:Asamblea General CEESCYL 2015. Presentación#Edusohistorias
URL:https://www.ceescyl.com/agenda-de-actividades-del-ceescyl/evento/597-as
 amblea-general-ceescyl-2015-presentacion-edusohistorias.html
END:VEVENT
END:VCALENDAR
