BEGIN:VCALENDAR
VERSION:2.0
PRODID:-//https://www.ceescyl.com///NONSGML kigkonsult.se iCalcreator 2.10.15//
METHOD:PUBLISH
BEGIN:VEVENT
UID:20260423T102934CEST-6745veFEXD@https://www.ceescyl.com/
DTSTAMP:20260423T082934Z
DESCRIPTION:Cefé colegial a partir de las 19:30 horas en la sede del CEESCY
 L. https://www.ceescyl.com/agenda-de-actividades-del-ceescyl/evento/645-ce
 lebracion-dia-internacional-de-la-educacion-social.html
DTSTART:20141001T220000Z
DTEND:20141001T220000Z
LOCATION:CeesCyL ()
SUMMARY:Celebración Día Internacional de la Educación Social
URL:https://www.ceescyl.com/agenda-de-actividades-del-ceescyl/evento/645-ce
 lebracion-dia-internacional-de-la-educacion-social.html
END:VEVENT
END:VCALENDAR
