BEGIN:VCALENDAR
VERSION:2.0
PRODID:-//https://www.ceescyl.com///NONSGML kigkonsult.se iCalcreator 2.10.15//
METHOD:PUBLISH
BEGIN:VEVENT
UID:20260419T222655CEST-8142JAIOgX@https://www.ceescyl.com/
DTSTAMP:20260419T202655Z
DESCRIPTION:Asamblea General de Colegiados y Colegiadas del CEESCYL. A las 
 10:00 horas en primera convocatoria y a las 10:30 horas en segunda. Sede d
 el Colegio. Valladolid. https://www.ceescyl.com/agenda-de-actividades-del-
 ceescyl/evento/676-asamblea-general-del-ceescyl-2014.html
DTSTART:20140221T230000Z
DTEND:20140221T230000Z
LOCATION:CeesCyL ()
SUMMARY:Asamblea General del CEESCYL 2014
URL:https://www.ceescyl.com/agenda-de-actividades-del-ceescyl/evento/676-as
 amblea-general-del-ceescyl-2014.html
END:VEVENT
END:VCALENDAR
