BEGIN:VCALENDAR
VERSION:2.0
PRODID:-//https://www.ceescyl.com///NONSGML kigkonsult.se iCalcreator 2.10.15//
METHOD:PUBLISH
BEGIN:VEVENT
UID:20260419T222527CEST-6320dF5cx6@https://www.ceescyl.com/
DTSTAMP:20260419T202527Z
DESCRIPTION:19/05/2013. Asamblea General del CGCEES. Logroño. https://www.c
 eescyl.com/agenda-de-actividades-del-ceescyl/evento/725-asamblea-general-c
 gcees.html
DTSTART:20130518T060000Z
DTEND:20130519T150000Z
LOCATION:CeesCyL ()
SUMMARY:Asamblea General CGCEES
URL:https://www.ceescyl.com/agenda-de-actividades-del-ceescyl/evento/725-as
 amblea-general-cgcees.html
END:VEVENT
END:VCALENDAR
