BEGIN:VCALENDAR
VERSION:2.0
PRODID:-//https://www.ceescyl.com///NONSGML kigkonsult.se iCalcreator 2.10.15//
METHOD:PUBLISH
BEGIN:VEVENT
UID:20260419T223825CEST-3028lTA8Hv@https://www.ceescyl.com/
DTSTAMP:20260419T203825Z
DESCRIPTION:23/02/2013. Asamblea General de Colegiados y Colegiadas del CEE
 SCYL. Valladolid. https://www.ceescyl.com/agenda-de-actividades-del-ceescy
 l/evento/735-asamblea-general-del-ceescyl.html
DTSTART:20130222T230000Z
DTEND:20130222T230000Z
LOCATION:CeesCyL ()
SUMMARY:Asamblea General del CEESCYL
URL:https://www.ceescyl.com/agenda-de-actividades-del-ceescyl/evento/735-as
 amblea-general-del-ceescyl.html
END:VEVENT
END:VCALENDAR
