BEGIN:VCALENDAR
VERSION:2.0
PRODID:-//https://www.ceescyl.com///NONSGML kigkonsult.se iCalcreator 2.10.15//
METHOD:PUBLISH
BEGIN:VEVENT
UID:20260421T184310CEST-2753Tt9jKn@https://www.ceescyl.com/
DTSTAMP:20260421T164310Z
DESCRIPTION:13/02/2013. Reunión profesorado FEYTS de la UVA y representante
 s del CEESCYL. Valladolid. https://www.ceescyl.com/agenda-de-actividades-d
 el-ceescyl/evento/738-reunion-con-profesorado.html
DTSTART:20130212T230000Z
DTEND:20130212T230000Z
LOCATION:CeesCyL ()
SUMMARY:Reunión con Profesorado
URL:https://www.ceescyl.com/agenda-de-actividades-del-ceescyl/evento/738-re
 union-con-profesorado.html
END:VEVENT
END:VCALENDAR
