BEGIN:VCALENDAR
VERSION:2.0
PRODID:-//https://www.ceescyl.com///NONSGML kigkonsult.se iCalcreator 2.10.15//
METHOD:PUBLISH
BEGIN:VEVENT
UID:20260423T103335CEST-5784DIXB7t@https://www.ceescyl.com/
DTSTAMP:20260423T083335Z
DESCRIPTION:14/12/2012. Reunión de Junta de Gobierno del CEESCYL. Valladoli
 d. https://www.ceescyl.com/agenda-de-actividades-del-ceescyl/evento/742-re
 union-de-la-junta-de-gobierno.html
DTSTART:20121213T230000Z
DTEND:20121213T230000Z
LOCATION:CeesCyL ()
SUMMARY:Reunión de La Junta de Gobierno
URL:https://www.ceescyl.com/agenda-de-actividades-del-ceescyl/evento/742-re
 union-de-la-junta-de-gobierno.html
END:VEVENT
END:VCALENDAR
