BEGIN:VCALENDAR
VERSION:2.0
PRODID:-//https://www.ceescyl.com///NONSGML kigkonsult.se iCalcreator 2.10.15//
METHOD:PUBLISH
BEGIN:VEVENT
UID:20260419T223637CEST-56251Z37K5@https://www.ceescyl.com/
DTSTAMP:20260419T203637Z
DESCRIPTION:25/02/2012.  Asamblea General de Colegiados y Colegiadas del CE
 ESCYL. Valladolid. https://www.ceescyl.com/agenda-de-actividades-del-ceesc
 yl/evento/788-asamblea-general-del-ceescyl.html
DTSTART:20120224T230000Z
DTEND:20120224T230000Z
LOCATION:CeesCyL ()
SUMMARY:Asamblea General del CEESCYL
URL:https://www.ceescyl.com/agenda-de-actividades-del-ceescyl/evento/788-as
 amblea-general-del-ceescyl.html
END:VEVENT
END:VCALENDAR
