BEGIN:VCALENDAR
VERSION:2.0
PRODID:-//https://www.ceescyl.com///NONSGML kigkonsult.se iCalcreator 2.10.15//
METHOD:PUBLISH
BEGIN:VEVENT
UID:20260419T223825CEST-0568ZdWlVu@https://www.ceescyl.com/
DTSTAMP:20260419T203825Z
DESCRIPTION:10/02/2012.  Reunión de Comisión Permanente del CEESCYL. Vallad
 olid. https://www.ceescyl.com/agenda-de-actividades-del-ceescyl/evento/789
 -reunion-de-comision-del-ceescyl.html
DTSTART:20120209T230000Z
DTEND:20120209T230000Z
LOCATION:CeesCyL ()
SUMMARY:Reunión de Comisión del CEESCYL
URL:https://www.ceescyl.com/agenda-de-actividades-del-ceescyl/evento/789-re
 union-de-comision-del-ceescyl.html
END:VEVENT
END:VCALENDAR
