BEGIN:VCALENDAR
VERSION:2.0
PRODID:-//https://www.ceescyl.com///NONSGML kigkonsult.se iCalcreator 2.10.15//
METHOD:PUBLISH
BEGIN:VEVENT
UID:20260420T113124CEST-4564mAIUB2@https://www.ceescyl.com/
DTSTAMP:20260420T093124Z
DESCRIPTION:28/01/2012.  Reunión de Junta de Gobierno del CEESCYL. Valladol
 id https://www.ceescyl.com/agenda-de-actividades-del-ceescyl/evento/790-re
 union-de-la-junta-de-gobierno.html
DTSTART:20120127T230000Z
DTEND:20120127T230000Z
LOCATION:CeesCyL ()
SUMMARY:Reunión de La Junta de Gobierno
URL:https://www.ceescyl.com/agenda-de-actividades-del-ceescyl/evento/790-re
 union-de-la-junta-de-gobierno.html
END:VEVENT
END:VCALENDAR
